Back to Multiple platform build/check report
Package: Category |
Version: 1.4.1 |
Command: /home/biocbuild/arch/sparc/R-2.3.0/bin/R CMD build Category |
RetCode: 0 |
Time: 89.8 seconds |
Status: OK |
PackageFile: Category_1.4.1.tar.gz |
* checking for file 'Category/DESCRIPTION' ... OK * preparing 'Category': * checking DESCRIPTION meta-information ... OK * installing the package to re-build vignettes * Installing *source* package 'Category' ... ** R ** inst ** preparing package for lazy loading Loading required package: Biobase Loading required package: tools Welcome to Bioconductor Vignettes contain introductory material. To view, type 'openVignette()' or start with 'help(Biobase)'. For details on reading vignettes, see the openVignette help page. Loading required package: KEGG Loading required package: hgu95av2 Loading required package: genefilter Loading required package: survival Loading required package: splines Loading required package: GO Loading required package: graph Loading required package: Ruuid Loading required package: annotate ** help >>> Building/Updating help pages for package 'Category' Formats: text html latex example GOHyperG text html latex example GeneCategoryHyperGeoTestParams-cl text html latex GeneCategoryHyperGeoTestResult-cl text html latex GeneGoHyperGeoTestParams-class text html latex GeneKeggHyperGeoTestParams-class text html latex MAPAmat text html latex example applyByCategory text html latex example cateGOryMatrix text html latex example categoryToEntrezBuilder text html latex findAMstats text html latex example geneCategoryHyperGeoTest text html latex geneGoHyperGeoTest text html latex example geneKeggHyperGeoTest text html latex example getPathNames text html latex example makeEBcontr text html latex example probes2MAP text html latex example probes2Path text html latex example ttperm text html latex example universeBuilder text html latex ** building package indices ... * DONE (Category) * creating vignettes ... OK * removing junk files * checking for LF line-endings in source files * checking for empty or unneeded directories * building 'Category_1.4.1.tar.gz'