Back to Multiple platform build/check report
Package: EBImage |
Version: 1.2.0 |
Command: /home/biocbuild/arch/sparc/R-2.3.0/bin/R CMD build EBImage |
RetCode: 1 |
Time: 26.0 seconds |
Status: ERROR |
PackageFile: None |
* checking for file 'EBImage/DESCRIPTION' ... OK * preparing 'EBImage': * checking DESCRIPTION meta-information ... OK * cleaning src * installing the package to re-build vignettes * Installing *source* package 'EBImage' ... checking for Magick++-config... yes ImageMagick version 5.4.7 found checking for Magick++-config... yes ImageMagick++ includes located in -I/usr/sfw/include -D_REENTRANT -I/sfw81-gate/build/sfw81-patch/proto/root_sparc/usr/sfw/include -I/usr/sfw/include -I/usr/sfw/include/freetype2 -I/usr/X/include/X11 -I/usr/include/libxml2 -D_LARGEFILE_SOURCE -D_FILE_OFFSET_BITS=64 -I/usr/openwin/include -I/usr/openwin/include/X11 -I/usr/include/libxml2 R found in: /home/biocbuild/arch/sparc/R-2.3.0 configure: creating ./config.status config.status: creating src/Makevars ** libs g++ -I/home/biocbuild/arch/sparc/R-2.3.0/include -I/home/biocbuild/arch/sparc/R-2.3.0/include -I/usr/local/include -I/usr/sfw/include -D_REENTRANT -I/sfw81-gate/build/sfw81-patch/proto/root_sparc/usr/sfw/include -I/usr/sfw/include -I/usr/sfw/include/freetype2 -I/usr/X/include/X11 -I/usr/include/libxml2 -D_LARGEFILE_SOURCE -D_FILE_OFFSET_BITS=64 -I/usr/openwin/include -I/usr/openwin/include/X11 -I/usr/include/libxml2 -g -fPIC -g -O2 -c algorithms2D.cpp -o algorithms2D.o g++ -I/home/biocbuild/arch/sparc/R-2.3.0/include -I/home/biocbuild/arch/sparc/R-2.3.0/include -I/usr/local/include -I/usr/sfw/include -D_REENTRANT -I/sfw81-gate/build/sfw81-patch/proto/root_sparc/usr/sfw/include -I/usr/sfw/include -I/usr/sfw/include/freetype2 -I/usr/X/include/X11 -I/usr/include/libxml2 -D_LARGEFILE_SOURCE -D_FILE_OFFSET_BITS=64 -I/usr/openwin/include -I/usr/openwin/include/X11 -I/usr/include/libxml2 -g -fPIC -g -O2 -c common.cpp -o common.o g++ -I/home/biocbuild/arch/sparc/R-2.3.0/include -I/home/biocbuild/arch/sparc/R-2.3.0/include -I/usr/local/include -I/usr/sfw/include -D_REENTRANT -I/sfw81-gate/build/sfw81-patch/proto/root_sparc/usr/sfw/include -I/usr/sfw/include -I/usr/sfw/include/freetype2 -I/usr/X/include/X11 -I/usr/include/libxml2 -D_LARGEFILE_SOURCE -D_FILE_OFFSET_BITS=64 -I/usr/openwin/include -I/usr/openwin/include/X11 -I/usr/include/libxml2 -g -fPIC -g -O2 -c conversions.cpp -o conversions.o g++ -I/home/biocbuild/arch/sparc/R-2.3.0/include -I/home/biocbuild/arch/sparc/R-2.3.0/include -I/usr/local/include -I/usr/sfw/include -D_REENTRANT -I/sfw81-gate/build/sfw81-patch/proto/root_sparc/usr/sfw/include -I/usr/sfw/include -I/usr/sfw/include/freetype2 -I/usr/X/include/X11 -I/usr/include/libxml2 -D_LARGEFILE_SOURCE -D_FILE_OFFSET_BITS=64 -I/usr/openwin/include -I/usr/openwin/include/X11 -I/usr/include/libxml2 -g -fPIC -g -O2 -c display.cpp -o display.o g++ -I/home/biocbuild/arch/sparc/R-2.3.0/include -I/home/biocbuild/arch/sparc/R-2.3.0/include -I/usr/local/include -I/usr/sfw/include -D_REENTRANT -I/sfw81-gate/build/sfw81-patch/proto/root_sparc/usr/sfw/include -I/usr/sfw/include -I/usr/sfw/include/freetype2 -I/usr/X/include/X11 -I/usr/include/libxml2 -D_LARGEFILE_SOURCE -D_FILE_OFFSET_BITS=64 -I/usr/openwin/include -I/usr/openwin/include/X11 -I/usr/include/libxml2 -g -fPIC -g -O2 -c filters2D.cpp -o filters2D.o g++ -I/home/biocbuild/arch/sparc/R-2.3.0/include -I/home/biocbuild/arch/sparc/R-2.3.0/include -I/usr/local/include -I/usr/sfw/include -D_REENTRANT -I/sfw81-gate/build/sfw81-patch/proto/root_sparc/usr/sfw/include -I/usr/sfw/include -I/usr/sfw/include/freetype2 -I/usr/X/include/X11 -I/usr/include/libxml2 -D_LARGEFILE_SOURCE -D_FILE_OFFSET_BITS=64 -I/usr/openwin/include -I/usr/openwin/include/X11 -I/usr/include/libxml2 -g -fPIC -g -O2 -c filters2D_magick.cpp -o filters2D_magick.o filters2D_magick.cpp: In function `SEXPREC* stdFilter2D(SEXPREC*, SEXPREC*, SEXPREC*)': filters2D_magick.cpp:50: error: 'class MagickImage' has no member named 'adaptiveThreshold' make: *** [filters2D_magick.o] Error 1 chmod: getting attributes of `/tmp/Rinst2375229550/EBImage/libs/*': No such file or directory ERROR: compilation failed for package 'EBImage' ** Removing '/tmp/Rinst2375229550/EBImage' ERROR Installation failed. Removing '/tmp/Rinst2375229550'