Back to Multiple platform build/check report
Package: GeneR |
Version: 2.2.0 |
Command: /home/biocbuild/arch/sparc/R-2.3.0/bin/R CMD build GeneR |
RetCode: 1 |
Time: 8.1 seconds |
Status: ERROR |
PackageFile: None |
* checking for file 'GeneR/DESCRIPTION' ... OK * preparing 'GeneR': * checking DESCRIPTION meta-information ... OK * cleaning src * running cleanup * checking whether 'INDEX' is up-to-date ... OK * installing the package to re-build vignettes * Installing *source* package 'GeneR' ... ** libs g++ -I/home/biocbuild/arch/sparc/R-2.3.0/include -I/home/biocbuild/arch/sparc/R-2.3.0/include -I/usr/local/include -fPIC -g -O2 -c GeneR_glob.cc -o GeneR_glob.o g++ -I/home/biocbuild/arch/sparc/R-2.3.0/include -I/home/biocbuild/arch/sparc/R-2.3.0/include -I/usr/local/include -fPIC -g -O2 -c GeneR_seq.cc -o GeneR_seq.o g++ -I/home/biocbuild/arch/sparc/R-2.3.0/include -I/home/biocbuild/arch/sparc/R-2.3.0/include -I/usr/local/include -fPIC -g -O2 -c complementaire.cc -o complementaire.o g++ -I/home/biocbuild/arch/sparc/R-2.3.0/include -I/home/biocbuild/arch/sparc/R-2.3.0/include -I/usr/local/include -fPIC -g -O2 -c compoSeq.cc -o compoSeq.o compoSeq.cc: In function `void sys_exactmatch(int*, char**, int*, int*, int*, int*, int*, int*, int*, int*, int*, int*)': compoSeq.cc:77: error: `strcasestr' undeclared (first use this function) compoSeq.cc:77: error: (Each undeclared identifier is reported only once for each function it appears in.) make: *** [compoSeq.o] Error 1 ERROR: compilation failed for package 'GeneR' ** Removing '/tmp/Rinst1890026003/GeneR' ERROR Installation failed. Removing '/tmp/Rinst1890026003'