Back to Multiple platform build/check report
Package: MVCClass |
Version: 1.6.0 |
Command: /home/biocbuild/arch/sparc/R-2.3.0/bin/R CMD check MVCClass_1.6.0.tar.gz |
RetCode: 1 |
Time: 168.3 seconds |
Status: ERROR |
CheckDir: MVCClass.Rcheck |
Warnings: NA |
* checking for working latex ... OK * using log directory '/loc/biocbuild/1.8d/madman/Rpacks/MVCClass.Rcheck' * using Version 2.3.0 (2006-04-24) * checking for file 'MVCClass/DESCRIPTION' ... OK * this is package 'MVCClass' version '1.6.0' * checking package dependencies ... OK * checking if this is a source package ... OK * checking whether package 'MVCClass' can be installed ... OK * checking package directory ... OK * checking for portable file names ... OK * checking for sufficient/correct file permissions ... OK * checking DESCRIPTION meta-information ... OK * checking top-level files ... OK * checking index information ... OK * checking package subdirectories ... OK * checking R files for syntax errors ... OK * checking R files for library.dynam ... OK * checking S3 generic/method consistency ...Segmentation Fault - core dumped OK * checking replacement functions ...Segmentation Fault - core dumped OK * checking foreign function calls ...Segmentation Fault - core dumped OK * checking Rd files ... OK * checking for missing documentation entries ...Segmentation Fault - core dumped OK * checking for code/documentation mismatches ...Segmentation Fault - core dumped Segmentation Fault - core dumped Segmentation Fault - core dumped OK * checking Rd \usage sections ... OK * creating MVCClass-Ex.R ... OK * checking examples ...Segmentation Fault - core dumped ERROR Running examples in MVCClass-Ex.R failed.