Back to Multiple platform build/check report
Package: MantelCorr |
Version: 1.2.0 |
Command: /home/biocbuild/arch/sparc/R-2.3.0/bin/R CMD build MantelCorr |
RetCode: 0 |
Time: 258.2 seconds |
Status: OK |
PackageFile: MantelCorr_1.2.0.tar.gz |
* checking for file 'MantelCorr/DESCRIPTION' ... OK * preparing 'MantelCorr': * checking DESCRIPTION meta-information ... OK * installing the package to re-build vignettes * Installing *source* package 'MantelCorr' ... ** R ** data ** inst ** help >>> Building/Updating help pages for package 'MantelCorr' Formats: text html latex example ClusterGeneList text html latex example ClusterList text html latex example DistMatrices text html latex example GetClusters text html latex example GolubTrain text html latex example MantelCorrs text html latex example PermutationTest text html latex example ** building package indices ... * DONE (MantelCorr) * creating vignettes ... OK * removing junk files * checking for LF line-endings in source files * checking for empty or unneeded directories * building 'MantelCorr_1.2.0.tar.gz'