Back to Multiple platform build/check report
Package: Resourcerer |
Version: 1.6.0 |
Command: /home/biocbuild/arch/sparc/R-2.3.0/bin/R CMD build Resourcerer |
RetCode: 1 |
Time: 3.9 seconds |
Status: ERROR |
PackageFile: None |
* checking for file 'Resourcerer/DESCRIPTION' ... OK * preparing 'Resourcerer': * checking DESCRIPTION meta-information ... OK * installing the package to re-build vignettes * Installing *source* package 'Resourcerer' ... ** R ** inst ** preparing package for lazy loading Error: package 'AnnBuilder' required by 'Resourcerer' could not be found Execution halted ERROR: lazy loading failed for package 'Resourcerer' ** Removing '/tmp/Rinst2426890964/Resourcerer' ERROR Installation failed. Removing '/tmp/Rinst2426890964'