Back to Multiple platform build/check report
Package: SAGElyzer |
Version: 1.10.0 |
Command: /home/biocbuild/arch/sparc/R-2.3.0/bin/R CMD build SAGElyzer |
RetCode: 1 |
Time: 4.9 seconds |
Status: ERROR |
PackageFile: None |
* checking for file 'SAGElyzer/DESCRIPTION' ... OK * preparing 'SAGElyzer': * checking DESCRIPTION meta-information ... OK * installing the package to re-build vignettes * Installing *source* package 'SAGElyzer' ... ** R ** data ** exec ** inst ** preparing package for lazy loading Loading required package: AnnBuilder Error: package 'AnnBuilder' could not be loaded In addition: Warning message: there is no package called 'AnnBuilder' in: library(pkg, character.only = TRUE, logical = TRUE, lib.loc = lib.loc) Execution halted ERROR: lazy loading failed for package 'SAGElyzer' ** Removing '/tmp/Rinst739292819/SAGElyzer' ERROR Installation failed. Removing '/tmp/Rinst739292819'