Back to Multiple platform build/check report
Package: cghMCR |
Version: 1.2.0 |
Command: /home/biocbuild/arch/sparc/R-2.3.0/bin/R CMD build cghMCR |
RetCode: 0 |
Time: 72.5 seconds |
Status: OK |
PackageFile: cghMCR_1.2.0.tar.gz |
* checking for file 'cghMCR/DESCRIPTION' ... OK * preparing 'cghMCR': * checking DESCRIPTION meta-information ... OK * installing the package to re-build vignettes * Installing *source* package 'cghMCR' ... ** R ** data ** inst ** save image Loading required package: DNAcopy Loading required package: marray Loading required package: limma Creating a new generic function for 'print' in 'cghMCR' ** help >>> Building/Updating help pages for package 'cghMCR' Formats: text html latex example cghMCR-class text html latex example cghMCR text html latex example mergeMCRProbes text html latex example plot.DNAcopy text html latex example ** building package indices ... * DONE (cghMCR) * creating vignettes ... OK * removing junk files * checking for LF line-endings in source files * checking for empty or unneeded directories * building 'cghMCR_1.2.0.tar.gz'