Back to Multiple platform build/check report
Package: copa |
Version: 1.0.0 |
Command: /home/biocbuild/arch/sparc/R-2.3.0/bin/R CMD build copa |
RetCode: 0 |
Time: 257.5 seconds |
Status: OK |
PackageFile: copa_1.0.0.tar.gz |
* checking for file 'copa/DESCRIPTION' ... OK * preparing 'copa': * checking DESCRIPTION meta-information ... OK * cleaning src * installing the package to re-build vignettes * Installing *source* package 'copa' ... ** libs gcc -I/home/biocbuild/arch/sparc/R-2.3.0/include -I/home/biocbuild/arch/sparc/R-2.3.0/include -I/usr/local/include -fPIC -g -O2 -std=gnu99 -Wall -c copa.c -o copa.o gcc -G -L/usr/local/lib -o copa.so copa.o ** R ** inst ** help >>> Building/Updating help pages for package 'copa' Formats: text html latex example copa text html latex example copa.package text html latex copaFilter text html latex copaPerm text html latex copaTable text html latex example getans text html latex pSum text html latex perm.mat text html latex plotCopa text html latex example scatterPlotCopa text html latex example ** building package indices ... * DONE (copa) * creating vignettes ... OK * cleaning src * removing junk files * checking for LF line-endings in source files * checking for empty or unneeded directories * building 'copa_1.0.0.tar.gz'