Back to Multiple platform build/check report
Package: hypergraph |
Version: 1.4.0 |
Command: /home/biocbuild/arch/sparc/R-2.3.0/bin/R CMD build hypergraph |
RetCode: 0 |
Time: 1.8 seconds |
Status: OK |
PackageFile: hypergraph_1.4.0.tar.gz |
* checking for file 'hypergraph/DESCRIPTION' ... OK * preparing 'hypergraph': * checking DESCRIPTION meta-information ... OK * removing junk files * checking for LF line-endings in source files * checking for empty or unneeded directories WARNING: directory 'hypergraph/inst/doc' is empty * building 'hypergraph_1.4.0.tar.gz'