Back to Multiple platform build/check report
Package: limmaGUI |
Version: 1.8.0 |
Command: /home/biocbuild/arch/sparc/R-2.3.0/bin/R CMD build limmaGUI |
RetCode: 1 |
Time: 11.2 seconds |
Status: ERROR |
PackageFile: None |
* checking for file 'limmaGUI/DESCRIPTION' ... OK * preparing 'limmaGUI': * checking DESCRIPTION meta-information ... OK * installing the package to re-build vignettes * Installing *source* package 'limmaGUI' ... ** R ** inst ** preparing package for lazy loading Loading required package: limma Loading required package: tcltk Loading Tcl/Tk interface ... Error in fun(...) : this isn't a Tk applicationcouldn't connect to display ":0.0" Error: .onLoad failed in 'loadNamespace' for 'tcltk' Error: package 'tcltk' could not be loaded Execution halted ERROR: lazy loading failed for package 'limmaGUI' ** Removing '/tmp/Rinst2188561062/limmaGUI' ERROR Installation failed. Removing '/tmp/Rinst2188561062'