Back to Multiple platform build/check report
Package: tkWidgets |
Version: 1.10.0 |
Command: /home/biocbuild/arch/sparc/R-2.3.0/bin/R CMD build tkWidgets |
RetCode: 1 |
Time: 19.2 seconds |
Status: ERROR |
PackageFile: None |
* checking for file 'tkWidgets/DESCRIPTION' ... OK * preparing 'tkWidgets': * checking DESCRIPTION meta-information ... OK * checking whether 'INDEX' is up-to-date ... NO * use '--force' to overwrite the existing 'INDEX' * installing the package to re-build vignettes * Installing *source* package 'tkWidgets' ... ** R ** inst ** preparing package for lazy loading Loading required package: widgetTools Loading Tcl/Tk interface ... Error in fun(...) : this isn't a Tk applicationcouldn't connect to display ":0.0" Error: .onLoad failed in 'loadNamespace' for 'tcltk' Error in fun(...) : Package tcltk unavailalbe! Error: .onLoad failed in 'loadNamespace' for 'widgetTools' Error: package 'widgetTools' could not be loaded Execution halted ERROR: lazy loading failed for package 'tkWidgets' ** Removing '/tmp/Rinst251189587/tkWidgets' ERROR Installation failed. Removing '/tmp/Rinst251189587'