Back to Multiple platform build/check report
Package: Biostrings |
Version: 2.0.0 |
Command: /home/biocbuild/R-2.3.0/bin/R CMD build Biostrings |
RetCode: 0 |
Time: 35.1 seconds |
Status: OK |
PackageFile: Biostrings_2.0.0.tar.gz |
* checking for file 'Biostrings/DESCRIPTION' ... OK * preparing 'Biostrings': * checking DESCRIPTION meta-information ... OK * cleaning src * installing the package to re-build vignettes * Installing *source* package 'Biostrings' ... ** libs gcc -I/home/biocbuild/R-2.3.0/include -I/home/biocbuild/R-2.3.0/include -I/usr/local/include -fpic -g -O2 -std=gnu99 -Wall -c alphabetFrequency.c -o alphabetFrequency.o gcc -I/home/biocbuild/R-2.3.0/include -I/home/biocbuild/R-2.3.0/include -I/usr/local/include -fpic -g -O2 -std=gnu99 -Wall -c bbuf.c -o bbuf.o bbuf.c: In function 'bbuf_read_enc_chars': bbuf.c:516: warning: 'letter' may be used uninitialized in this function bbuf.c: In function 'bbuf_readii_enc_chars': bbuf.c:548: warning: 'letter' may be used uninitialized in this function bbuf.c: In function 'bbuf_write_enc_chars': bbuf.c:587: warning: 'code' may be used uninitialized in this function bbuf.c: In function 'bbuf_writeii_enc_chars': bbuf.c:626: warning: 'code' may be used uninitialized in this function gcc -I/home/biocbuild/R-2.3.0/include -I/home/biocbuild/R-2.3.0/include -I/usr/local/include -fpic -g -O2 -std=gnu99 -Wall -c ibuf.c -o ibuf.o gcc -I/home/biocbuild/R-2.3.0/include -I/home/biocbuild/R-2.3.0/include -I/usr/local/include -fpic -g -O2 -std=gnu99 -Wall -c R_init_Biostrings.c -o R_init_Biostrings.o gcc -I/home/biocbuild/R-2.3.0/include -I/home/biocbuild/R-2.3.0/include -I/usr/local/include -fpic -g -O2 -std=gnu99 -Wall -c shiftor.c -o shiftor.o shiftor.c: In function 'shiftor': shiftor.c:224: warning: 'index' may be used uninitialized in this function gcc -I/home/biocbuild/R-2.3.0/include -I/home/biocbuild/R-2.3.0/include -I/usr/local/include -fpic -g -O2 -std=gnu99 -Wall -c utils.c -o utils.o gcc -shared -L/usr/local/lib64 -o Biostrings.so alphabetFrequency.o bbuf.o ibuf.o R_init_Biostrings.o shiftor.o utils.o ** R ** data ** inst ** save image Creating a new generic function for 'as.integer' in 'Biostrings' Creating a new generic function for 'toString' in 'Biostrings' Creating a new generic function for 'nchar' in 'Biostrings' Creating a new generic function for 'as.matrix' in 'Biostrings' Warning message: in the method signature for function 'BStringViews' no definition for class: "file" in: matchSignature(signature, fdef, where) ** help >>> Building/Updating help pages for package 'Biostrings' Formats: text html latex example BString-class text html latex example BStringViews-class text html latex example Biostrings-internals text html latex alphabetFrequency text html latex example blosum50 text html latex example matchPattern text html latex example needwunsQS text html latex example readFASTA text html latex example reverseComplement text html latex example yeastSEQCHR1 text html latex example ** building package indices ... * DONE (Biostrings) * creating vignettes ... OK * cleaning src * removing junk files * checking for LF line-endings in source files * checking for empty or unneeded directories * building 'Biostrings_2.0.0.tar.gz'