Back to Multiple platform build/check report
Package: EBImage |
Version: 1.2.0 |
Command: /home/biocbuild/R-2.3.0/bin/R CMD build EBImage |
RetCode: 0 |
Time: 56.1 seconds |
Status: OK |
PackageFile: EBImage_1.2.0.tar.gz |
* checking for file 'EBImage/DESCRIPTION' ... OK * preparing 'EBImage': * checking DESCRIPTION meta-information ... OK * cleaning src * installing the package to re-build vignettes * Installing *source* package 'EBImage' ... checking for Magick++-config... yes ImageMagick version 6.2.3 found checking for Magick++-config... yes ImageMagick++ includes located in -I/usr/include R found in: /home/biocbuild/R-2.3.0 configure: creating ./config.status config.status: creating src/Makevars ** libs g++ -I/home/biocbuild/R-2.3.0/include -I/home/biocbuild/R-2.3.0/include -I/usr/local/include -I/usr/include -O2 -fmessage-length=0 -Wall -D_FORTIFY_SOURCE=2 -g -pthread -fpic -g -O2 -c algorithms2D.cpp -o algorithms2D.o g++ -I/home/biocbuild/R-2.3.0/include -I/home/biocbuild/R-2.3.0/include -I/usr/local/include -I/usr/include -O2 -fmessage-length=0 -Wall -D_FORTIFY_SOURCE=2 -g -pthread -fpic -g -O2 -c common.cpp -o common.o g++ -I/home/biocbuild/R-2.3.0/include -I/home/biocbuild/R-2.3.0/include -I/usr/local/include -I/usr/include -O2 -fmessage-length=0 -Wall -D_FORTIFY_SOURCE=2 -g -pthread -fpic -g -O2 -c conversions.cpp -o conversions.o g++ -I/home/biocbuild/R-2.3.0/include -I/home/biocbuild/R-2.3.0/include -I/usr/local/include -I/usr/include -O2 -fmessage-length=0 -Wall -D_FORTIFY_SOURCE=2 -g -pthread -fpic -g -O2 -c display.cpp -o display.o g++ -I/home/biocbuild/R-2.3.0/include -I/home/biocbuild/R-2.3.0/include -I/usr/local/include -I/usr/include -O2 -fmessage-length=0 -Wall -D_FORTIFY_SOURCE=2 -g -pthread -fpic -g -O2 -c filters2D.cpp -o filters2D.o g++ -I/home/biocbuild/R-2.3.0/include -I/home/biocbuild/R-2.3.0/include -I/usr/local/include -I/usr/include -O2 -fmessage-length=0 -Wall -D_FORTIFY_SOURCE=2 -g -pthread -fpic -g -O2 -c filters2D_magick.cpp -o filters2D_magick.o g++ -I/home/biocbuild/R-2.3.0/include -I/home/biocbuild/R-2.3.0/include -I/usr/local/include -I/usr/include -O2 -fmessage-length=0 -Wall -D_FORTIFY_SOURCE=2 -g -pthread -fpic -g -O2 -c io.cpp -o io.o g++ -I/home/biocbuild/R-2.3.0/include -I/home/biocbuild/R-2.3.0/include -I/usr/local/include -I/usr/include -O2 -fmessage-length=0 -Wall -D_FORTIFY_SOURCE=2 -g -pthread -fpic -g -O2 -c libmain.cpp -o libmain.o g++ -shared -L/usr/local/lib64 -o EBImage.so algorithms2D.o common.o conversions.o display.o filters2D.o filters2D_magick.o io.o libmain.o -L/usr/lib64 -L/usr/lib64 -L/usr/X11R6/lib64 -lfreetype -lz -L/usr/lib -lMagick++ -lWand -lMagick -llcms -ltiff -lfreetype -ljpeg -lXext -lSM -lICE -lX11 -lXt -lbz2 -lz -lpthread -lm -lpthread ** R ** inst ** save image ** help >>> Building/Updating help pages for package 'EBImage' Formats: text html latex example algorithms2D.objectCount text html latex example class.Image2D text html latex example class.Image3D text html latex example filters2D.distMap text html latex example filters2D.magick-colors text html latex example filters2D.magick-enhance text html latex example filters2D.magick-segment text html latex example filters2D.magick-transform text html latex example filters2D.magick text html latex example filters2D.thresh text html latex example image.io text html latex example internals text html latex ** building package indices ... * DONE (EBImage) * creating vignettes ... OK * cleaning src * removing junk files * checking for LF line-endings in source files * checking for empty or unneeded directories * building 'EBImage_1.2.0.tar.gz'