Back to Multiple platform build/check report
Package: MeasurementError.cor |
Version: 1.4.0 |
Command: /home/biocbuild/R-2.3.0/bin/R CMD build MeasurementError.cor |
RetCode: 0 |
Time: 9.8 seconds |
Status: OK |
PackageFile: MeasurementError.cor_1.4.0.tar.gz |
* checking for file 'MeasurementError.cor/DESCRIPTION' ... OK * preparing 'MeasurementError.cor': * checking DESCRIPTION meta-information ... OK * checking whether 'INDEX' is up-to-date ... NO * use '--force' to overwrite the existing 'INDEX' * installing the package to re-build vignettes * Installing *source* package 'MeasurementError.cor' ... ** R ** inst ** help >>> Building/Updating help pages for package 'MeasurementError.cor' Formats: text html latex example cor.me.matrix text html latex example cor.me.vector text html latex example ** building package indices ... * DONE (MeasurementError.cor) * creating vignettes ... OK * removing junk files * excluding invalid files from 'MeasurementError.cor' Subdirectory 'R' contains invalid file names: zzz Subdirectory 'man' contains invalid file names: CalcInitials cor.me fcn fcn.uncons gradient gradient.uncons TransformCon2Uncon TransformUncon2Con * checking for LF line-endings in source files * checking for empty or unneeded directories * building 'MeasurementError.cor_1.4.0.tar.gz'