Back to Multiple platform build/check report
Package: OLINgui |
Version: 1.6.0 |
Command: /home/biocbuild/R-2.3.0/bin/R CMD build OLINgui |
RetCode: 0 |
Time: 12.9 seconds |
Status: OK |
PackageFile: OLINgui_1.6.0.tar.gz |
* checking for file 'OLINgui/DESCRIPTION' ... OK * preparing 'OLINgui': * checking DESCRIPTION meta-information ... OK * checking whether 'INDEX' is up-to-date ... NO * use '--force' to overwrite the existing 'INDEX' * installing the package to re-build vignettes * Installing *source* package 'OLINgui' ... ** R ** inst ** preparing package for lazy loading Loading required package: OLIN Loading required package: locfit Loading required package: akima Loading required package: lattice locfit 1.5-3 2006-04-06 Loading required package: Biobase Loading required package: tools Welcome to Bioconductor Vignettes contain introductory material. To view, type 'openVignette()' or start with 'help(Biobase)'. For details on reading vignettes, see the openVignette help page. Loading required package: marray Loading required package: limma ** help >>> Building/Updating help pages for package 'OLINgui' Formats: text html latex example OLINgui text html latex ** building package indices ... * DONE (OLINgui) * creating vignettes ... OK * removing junk files * checking for LF line-endings in source files * checking for empty or unneeded directories * building 'OLINgui_1.6.0.tar.gz'