Back to Multiple platform build/check report
Package: goTools |
Version: 1.4.0 |
Command: /home/biocbuild/R-2.3.0/bin/R CMD build goTools |
RetCode: 0 |
Time: 68.9 seconds |
Status: OK |
PackageFile: goTools_1.4.0.tar.gz |
* checking for file 'goTools/DESCRIPTION' ... OK * preparing 'goTools': * checking DESCRIPTION meta-information ... OK * checking whether 'INDEX' is up-to-date ... OK * installing the package to re-build vignettes * Installing *source* package 'goTools' ... ** R ** data ** inst ** save image Loading required package: Biobase Loading required package: tools Welcome to Bioconductor Vignettes contain introductory material. To view, type 'openVignette()' or start with 'help(Biobase)'. For details on reading vignettes, see the openVignette help page. Loading required package: annotate Loading required package: GO ** help >>> Building/Updating help pages for package 'goTools' Formats: text html latex example EndNodeList text html latex example goTools-internal text html latex ontoCompare text html latex example probeID text html latex ** building package indices ... * DONE (goTools) * creating vignettes ... OK * removing junk files * checking for LF line-endings in source files * checking for empty or unneeded directories * building 'goTools_1.4.0.tar.gz'