Back to Multiple platform build/check report
Package: idiogram |
Version: 1.6.0 |
Command: /home/biocbuild/R-2.3.0/bin/R CMD build idiogram |
RetCode: 0 |
Time: 7.9 seconds |
Status: OK |
PackageFile: idiogram_1.6.0.tar.gz |
* checking for file 'idiogram/DESCRIPTION' ... OK * preparing 'idiogram': * checking DESCRIPTION meta-information ... OK * installing the package to re-build vignettes * Installing *source* package 'idiogram' ... ** R ** data ** moving datasets to lazyload DB ** inst ** help >>> Building/Updating help pages for package 'idiogram' Formats: text html latex example Hs.cytoband text html latex example buildChromLocation.2 text html latex example cytoband text html latex example idiograb text html latex example idiogram text html latex example idiogramExample text html latex example ** building package indices ... * DONE (idiogram) * creating vignettes ... OK * removing junk files * checking for LF line-endings in source files * checking for empty or unneeded directories * building 'idiogram_1.6.0.tar.gz'