Back to Multiple platform build/check report
Package: maCorrPlot |
Version: 1.2.0 |
Command: /home/biocbuild/R-2.3.0/bin/R CMD build maCorrPlot |
RetCode: 0 |
Time: 11.7 seconds |
Status: OK |
PackageFile: maCorrPlot_1.2.0.tar.gz |
* checking for file 'maCorrPlot/DESCRIPTION' ... OK * preparing 'maCorrPlot': * checking DESCRIPTION meta-information ... OK * installing the package to re-build vignettes * Installing *source* package 'maCorrPlot' ... ** R ** data ** inst ** help >>> Building/Updating help pages for package 'maCorrPlot' Formats: text html latex example CorrSample text html latex example CutCI text html latex example oligodata text html latex example plot.corr.sample text html latex example ** building package indices ... * DONE (maCorrPlot) * creating vignettes ... OK * removing junk files * checking for LF line-endings in source files * checking for empty or unneeded directories * building 'maCorrPlot_1.2.0.tar.gz'