Back to Multiple platform build/check report
Package: EBarrays |
Version: 1.4.0 |
Command: /home/biocbuild/arch/x86_64/R-2.3.0/bin/R CMD build EBarrays |
RetCode: 0 |
Time: 112.2 seconds |
Status: OK |
PackageFile: EBarrays_1.4.0.tar.gz |
* checking for file 'EBarrays/DESCRIPTION' ... OK * preparing 'EBarrays': * checking DESCRIPTION meta-information ... OK * cleaning src * checking whether 'INDEX' is up-to-date ... OK * installing the package to re-build vignettes * Installing *source* package 'EBarrays' ... ** libs gcc -I/home/biocbuild/arch/x86_64/R-2.3.0/include -I/home/biocbuild/arch/x86_64/R-2.3.0/include -I/usr/local/include -fpic -g -O2 -std=gnu99 -Wall -c ebarrays.c -o ebarrays.o gcc -shared -L/usr/local/lib64 -o EBarrays.so ebarrays.o ** R ** data ** demo ** inst ** save image Loading required package: Biobase Loading required package: tools Welcome to Bioconductor Vignettes contain introductory material. To view, type 'openVignette()' or start with 'help(Biobase)'. For details on reading vignettes, see the openVignette help page. Loading required package: lattice [1] "ebarraysFamily" [1] "ebarraysPatterns" [1] "show" [1] "show" [1] "ebarraysEmFit" [1] "show" [1] "emfit" [1] "emfit" [1] "emfit" [1] "emfit" [1] "emfit" [1] "postprob" [1] "ebarraysPostProb" [1] "show" [1] "postprob" [1] "postprob" ** preparing package for lazy loading Loading required package: Biobase Loading required package: tools Welcome to Bioconductor Vignettes contain introductory material. To view, type 'openVignette()' or start with 'help(Biobase)'. For details on reading vignettes, see the openVignette help page. Loading required package: lattice ** help >>> Building/Updating help pages for package 'EBarrays' Formats: text html latex example ebarraysFamily-class text html latex example ebplots text html latex example emfit text html latex example gould text html latex example postprob text html latex utilities text html latex example ** building package indices ... * DONE (EBarrays) * creating vignettes ... OK * cleaning src * removing junk files * checking for LF line-endings in source files * checking for empty or unneeded directories * building 'EBarrays_1.4.0.tar.gz'