Back to Multiple platform build/check report
Package: GEOquery |
Version: 1.6.0 |
Command: /home/biocbuild/arch/x86_64/R-2.3.0/bin/R CMD build GEOquery |
RetCode: 0 |
Time: 32.0 seconds |
Status: OK |
PackageFile: GEOquery_1.6.0.tar.gz |
* checking for file 'GEOquery/DESCRIPTION' ... OK * preparing 'GEOquery': * checking DESCRIPTION meta-information ... OK * installing the package to re-build vignettes * Installing *source* package 'GEOquery' ... ** R ** inst ** help >>> Building/Updating help pages for package 'GEOquery' Formats: text html latex example GDS-class text html latex GDS2MA text html latex example GEOData-class text html latex missing link(s): dataTable-class GEODataTable-class text html latex GPL-class text html latex GSE-class text html latex GSM-class text html latex getGEO text html latex example getGEOfile text html latex example parseGEO text html latex ** building package indices ... * DONE (GEOquery) * creating vignettes ... OK * removing junk files * checking for LF line-endings in source files * checking for empty or unneeded directories * building 'GEOquery_1.6.0.tar.gz'