Back to Multiple platform build/check report
Package: RMAGEML |
Version: 2.6.0 |
Command: /home/biocbuild/arch/x86_64/R-2.3.0/bin/R CMD check RMAGEML_2.6.0.tar.gz |
RetCode: 0 |
Time: 84.9 seconds |
Status: OK |
CheckDir: RMAGEML.Rcheck |
Warnings: 0 |
* checking for working latex ... OK * using log directory '/loc/biocbuild/1.8d/madman/Rpacks/RMAGEML.Rcheck' * using Version 2.3.0 (2006-04-24) * checking for file 'RMAGEML/DESCRIPTION' ... OK * this is package 'RMAGEML' version '2.6.0' * checking package dependencies ... OK * checking if this is a source package ... OK * checking whether package 'RMAGEML' can be installed ... OK * checking package directory ... OK * checking for portable file names ... OK * checking for sufficient/correct file permissions ... OK * checking DESCRIPTION meta-information ... OK * checking top-level files ... OK * checking index information ... OK * checking package subdirectories ... OK * checking R files for syntax errors ... OK * checking R files for library.dynam ... OK * checking S3 generic/method consistency ... OK * checking replacement functions ... OK * checking foreign function calls ... OK * checking Rd files ... OK * checking for missing documentation entries ... OK * checking for code/documentation mismatches ... OK * checking Rd \usage sections ... OK * checking for CRLF line endings in C/C++/Fortran sources/headers ... OK * checking for portable compilation flags in Makevars ... OK * creating RMAGEML-Ex.R ... OK * checking examples ... OK * checking package vignettes in 'inst/doc' ...sh: line 1: 3010 Segmentation fault '/home/biocbuild/arch/x86_64/R-2.3.0/bin/R' --vanilla --quiet /tmp/Rout78013382 2>&1 OK * creating RMAGEML-manual.tex ... OK * checking RMAGEML-manual.tex ... OK