Back to Multiple platform build/check report
Package: affypdnn |
Version: 1.6.0 |
Command: /home/biocbuild/arch/x86_64/R-2.3.0/bin/R CMD build affypdnn |
RetCode: 0 |
Time: 2.8 seconds |
Status: OK |
PackageFile: affypdnn_1.6.0.tar.gz |
* checking for file 'affypdnn/DESCRIPTION' ... OK * preparing 'affypdnn': * checking DESCRIPTION meta-information ... OK * checking whether 'INDEX' is up-to-date ... NO * use '--force' to overwrite the existing 'INDEX' * removing junk files * checking for LF line-endings in source files * checking for empty or unneeded directories * building 'affypdnn_1.6.0.tar.gz'