Back to Multiple platform build/check report
Package: rfcdmin |
Version: 1.4.0 |
Command: /home/biocbuild/arch/x86_64/R-2.3.0/bin/R CMD check rfcdmin_1.4.0.tar.gz |
RetCode: 0 |
Time: 126.6 seconds |
Status: OK |
CheckDir: rfcdmin.Rcheck |
Warnings: 0 |
* checking for working latex ... OK * using log directory '/loc/biocbuild/1.8d/madman/Rpacks/rfcdmin.Rcheck' * using Version 2.3.0 (2006-04-24) * checking for file 'rfcdmin/DESCRIPTION' ... OK * this is package 'rfcdmin' version '1.4.0' * checking package dependencies ... OK * checking if this is a source package ... OK * checking whether package 'rfcdmin' can be installed ... OK * checking package directory ... OK * checking for portable file names ... OK * checking for sufficient/correct file permissions ... OK * checking DESCRIPTION meta-information ... OK * checking top-level files ... OK * checking index information ... OK * checking package subdirectories ... OK * checking Rd files ... OK * checking for missing documentation entries ... OK * checking for code/documentation mismatches ... OK * checking Rd \usage sections ... OK * creating rfcdmin-Ex.R ... OK * checking examples ... OK * creating rfcdmin-manual.tex ... OK * checking rfcdmin-manual.tex ... OK