Back to Multiple platform build/check report
Package: Category |
Version: 1.4.1 |
Command: D:\biocbld\R-2.3.0\bin\R.exe CMD build Category |
RetCode: 0 |
Time: 50.5 seconds |
Status: OK |
PackageFile: Category_1.4.1.tar.gz |
* checking for file 'Category/DESCRIPTION' ... OK * preparing 'Category': * checking DESCRIPTION meta-information ... OK * installing the package to re-build vignettes installing R.css in D:/biocbld/work-area/1.8d/tmpdir/Rinst592455319 ---------- Making package Category ------------ adding build stamp to DESCRIPTION installing NAMESPACE file and metadata installing R files installing inst files installing man source files installing indices installing help >>> Building/Updating help pages for package 'Category' Formats: text html latex example chm GOHyperG text html latex example chm GeneCategoryHyperGeoTestParams-cl text html latex chm GeneCategoryHyperGeoTestResult-cl text html latex chm GeneGoHyperGeoTestParams-class text html latex chm GeneKeggHyperGeoTestParams-class text html latex chm MAPAmat text html latex example chm applyByCategory text html latex example chm cateGOryMatrix text html latex example chm categoryToEntrezBuilder text html latex chm findAMstats text html latex example chm geneCategoryHyperGeoTest text html latex chm geneGoHyperGeoTest text html latex example chm geneKeggHyperGeoTest text html latex example chm getPathNames text html latex example chm makeEBcontr text html latex example chm probes2MAP text html latex example chm probes2Path text html latex example chm ttperm text html latex example chm universeBuilder text html latex chm Microsoft HTML Help Compiler 4.74.8702 Compiling d:\biocbld\work-area\1.8d\madman\Rpacks\Category\chm\Category.chm Compile time: 0 minutes, 0 seconds 20 Topics 87 Local links 0 Internet links 1 Graphic Created d:\biocbld\work-area\1.8d\madman\Rpacks\Category\chm\Category.chm, 39,727 bytes Compression decreased file by 35,179 bytes. preparing package Category for lazy loading Welcome to Bioconductor Vignettes contain introductory material. To view, type 'openVignette()' or start with 'help(Biobase)'. For details on reading vignettes, see the openVignette help page. adding MD5 sums * DONE (Category) * creating vignettes ... OK * removing junk files * checking for LF line-endings in source files * checking for empty or unneeded directories * building 'Category_1.4.1.tar.gz'