Back to Multiple platform build/check report
Package: GOstats |
Version: 1.6.0 |
Command: D:\biocbld\R-2.3.0\bin\R.exe CMD INSTALL --build GOstats_1.6.0.tar.gz |
RetCode: 0 |
Time: 17.0 seconds |
Status: OK |
PackageFile: GOstats_1.6.0.zip |
Using auto-selected zip options 'GOstats-ZIPDATA=zip' ---------- Making package GOstats ------------ adding build stamp to DESCRIPTION installing NAMESPACE file and metadata installing R files installing inst files installing data files installing man source files installing indices zipping data installing help >>> Building/Updating help pages for package 'GOstats' Formats: text html latex example chm ALL text html latex example chm GOLeaves text html latex example chm GOstats-defunct text html latex chm Ndists text html latex example chm compCorrGraph text html latex example chm compGdist text html latex example chm dropECode text html latex example chm getEvidence text html latex example chm getGOTerm text html latex example chm getOntology text html latex example chm hasGOannote text html latex example chm hyperG2Affy text html latex example chm hyperGtable text html latex example chm idx2dimnames text html latex example chm makeGOGraph text html latex example chm notConn text html latex example chm oneGOGraph text html latex example chm shortestPath text html latex example chm simLL text html latex example chm triadCensus text html latex example chm Microsoft HTML Help Compiler 4.74.8702 Compiling d:\biocbld\work-area\1.8d\madman\Rpacks\R.INSTALL\GOstats\chm\GOstats.chm Compile time: 0 minutes, 0 seconds 21 Topics 65 Local links 0 Internet links 1 Graphic Created d:\biocbld\work-area\1.8d\madman\Rpacks\R.INSTALL\GOstats\chm\GOstats.chm, 41,965 bytes Compression decreased file by 25,109 bytes. adding MD5 sums packaged installation of package 'GOstats' as GOstats_1.6.0.zip * DONE (GOstats)