Back to Multiple platform build/check report
Package: Heatplus |
Version: 1.2.0 |
Command: D:\biocbld\R-2.3.0\bin\R.exe CMD build Heatplus |
RetCode: 0 |
Time: 20.5 seconds |
Status: OK |
PackageFile: Heatplus_1.2.0.tar.gz |
* checking for file 'Heatplus/DESCRIPTION' ... OK * preparing 'Heatplus': * checking DESCRIPTION meta-information ... OK * installing the package to re-build vignettes installing R.css in D:/biocbld/work-area/1.8d/tmpdir/Rinst254827331 ---------- Making package Heatplus ------------ adding build stamp to DESCRIPTION installing R files installing inst files installing man source files installing indices installing help >>> Building/Updating help pages for package 'Heatplus' Formats: text html latex example chm RGBColVec text html latex example chm cutplot.dendrogram text html latex example chm heatmap_2 text html latex example chm heatmap_plus text html latex example chm picketplot text html latex example chm Microsoft HTML Help Compiler 4.74.8702 Compiling d:\biocbld\work-area\1.8d\madman\Rpacks\Heatplus\chm\Heatplus.chm Compile time: 0 minutes, 0 seconds 6 Topics 17 Local links 0 Internet links 1 Graphic Created d:\biocbld\work-area\1.8d\madman\Rpacks\Heatplus\chm\Heatplus.chm, 28,153 bytes Compression decreased file by 2,461 bytes. adding MD5 sums * DONE (Heatplus) * creating vignettes ... OK * removing junk files * checking for LF line-endings in source files * checking for empty or unneeded directories * building 'Heatplus_1.2.0.tar.gz'