Back to Multiple platform build/check report
Package: Icens |
Version: 1.4.0 |
Command: D:\biocbld\R-2.3.0\bin\R.exe CMD check Icens_1.4.0.tar.gz |
RetCode: 0 |
Time: 116.4 seconds |
Status: OK |
CheckDir: Icens.Rcheck |
Warnings: 0 |
* checking for working latex ... OK * using log directory 'D:/biocbld/work-area/1.8d/madman/Rpacks/Icens.Rcheck' * using Version 2.3.0 (2006-04-24) * checking for file 'Icens/DESCRIPTION' ... OK * this is package 'Icens' version '1.4.0' * checking package dependencies ... OK * checking if this is a source package ... OK * checking whether package 'Icens' can be installed ... OK * checking package directory ... OK * checking for portable file names ... OK * checking DESCRIPTION meta-information ... OK * checking top-level files ... OK * checking index information ... OK * checking package subdirectories ... OK * checking R files for syntax errors ... OK * checking R files for library.dynam ... OK * checking S3 generic/method consistency ... OK * checking replacement functions ... OK * checking foreign function calls ... OK * checking Rd files ... OK * checking for missing documentation entries ... OK * checking for code/documentation mismatches ... OK * checking Rd \usage sections ... OK * creating Icens-Ex.R ... OK * checking examples ... OK * checking tests ... make[1]: Entering directory `/cygdrive/d/biocbld/work-area/1.8d/madman/Rpacks/Icens.Rcheck/tests' Running 'testbv.R' Comparing 'testbv.Rout' to 'testbv.Rout.save' ...117c117 < [6] 1.461001e+00 1.207129e+00 1.000000e+00 4.748624e-01 4.381765e-17 --- > [6] 1.461001e+00 1.207129e+00 1.000000e+00 4.748624e-01 -2.480201e-16 OK make[1]: Leaving directory `/cygdrive/d/biocbld/work-area/1.8d/madman/Rpacks/Icens.Rcheck/tests' OK * creating Icens-manual.tex ... OK * checking Icens-manual.tex ... OK