Back to Multiple platform build/check report
Package: LMGene |
Version: 0.12.0 |
Command: D:\biocbld\R-2.3.0\bin\R.exe CMD INSTALL --build LMGene_0.12.0.tar.gz |
RetCode: 0 |
Time: 12.0 seconds |
Status: OK |
PackageFile: LMGene_0.12.0.zip |
Using auto-selected zip options ' LMGene-HELP=ziponly' ---------- Making package LMGene ------------ adding build stamp to DESCRIPTION installing R files installing inst files installing data files installing man source files installing indices not zipping data installing help >>> Building/Updating help pages for package 'LMGene' Formats: text html latex example chm LMGene text html latex example chm Smpd text html latex example chm Smpd0 text html latex example chm arrplot1 text html latex example chm arrplotd text html latex example chm arrplote text html latex example chm beams text html latex example chm dplot text html latex example chm dplote text html latex example chm genediff text html latex example chm glog text html latex example chm jggrad2 text html latex example chm jglog text html latex example chm lnorm text html latex example chm mlm2lm text html latex example chm msa text html latex example chm msecalc text html latex example chm neweS text html latex example chm norm text html latex example chm pvadjust text html latex example chm rgplot text html latex example chm rowaov text html latex example chm rowlist text html latex example chm tranest text html latex example chm tranest2 text html latex example chm vlist text html latex example chm zipping help files Microsoft HTML Help Compiler 4.74.8702 Compiling d:\biocbld\work-area\1.8d\madman\Rpacks\R.INSTALL\LMGene\chm\LMGene.chm Compile time: 0 minutes, 0 seconds 27 Topics 123 Local links 23 Internet links 1 Graphic Created d:\biocbld\work-area\1.8d\madman\Rpacks\R.INSTALL\LMGene\chm\LMGene.chm, 35,145 bytes Compression decreased file by 36,702 bytes. adding MD5 sums packaged installation of package 'LMGene' as LMGene_0.12.0.zip * DONE (LMGene)