Back to Multiple platform build/check report
Package: MantelCorr |
Version: 1.2.0 |
Command: D:\biocbld\R-2.3.0\bin\R.exe CMD build MantelCorr |
RetCode: 0 |
Time: 42.9 seconds |
Status: OK |
PackageFile: MantelCorr_1.2.0.tar.gz |
* checking for file 'MantelCorr/DESCRIPTION' ... OK * preparing 'MantelCorr': * checking DESCRIPTION meta-information ... OK * installing the package to re-build vignettes installing R.css in D:/biocbld/work-area/1.8d/tmpdir/Rinst701291677 ---------- Making package MantelCorr ------------ adding build stamp to DESCRIPTION installing R files installing inst files installing data files installing man source files installing indices not zipping data installing help >>> Building/Updating help pages for package 'MantelCorr' Formats: text html latex example chm ClusterGeneList text html latex example chm ClusterList text html latex example chm DistMatrices text html latex example chm GetClusters text html latex example chm GolubTrain text html latex example chm MantelCorrs text html latex example chm PermutationTest text html latex example chm Microsoft HTML Help Compiler 4.74.8702 Compiling d:\biocbld\work-area\1.8d\madman\Rpacks\MantelCorr\chm\MantelCorr.chm Compile time: 0 minutes, 0 seconds 8 Topics 14 Local links 0 Internet links 1 Graphic Created d:\biocbld\work-area\1.8d\madman\Rpacks\MantelCorr\chm\MantelCorr.chm, 23,363 bytes Compression decreased file by 2,879 bytes. adding MD5 sums * DONE (MantelCorr) * creating vignettes ... OK * removing junk files * checking for LF line-endings in source files * checking for empty or unneeded directories * building 'MantelCorr_1.2.0.tar.gz'