Back to Multiple platform build/check report
Package: Mfuzz |
Version: 0.10.0 |
Command: D:\biocbld\R-2.3.0\bin\R.exe CMD INSTALL --build Mfuzz_0.10.0.tar.gz |
RetCode: 0 |
Time: 11.0 seconds |
Status: OK |
PackageFile: Mfuzz_0.10.0.zip |
Using auto-selected zip options 'Mfuzz-ZIPDATA=zip' ---------- Making package Mfuzz ------------ adding build stamp to DESCRIPTION installing NAMESPACE file and metadata installing R files installing inst files installing data files installing man source files Warning message: incomplete final line found by readLines on './man/mfuzzColorBar.Rd' installing indices zipping data installing help >>> Building/Updating help pages for package 'Mfuzz' Formats: text html latex example chm acore text html latex example chm cselection text html latex example chm fill.NA text html latex example chm filter.NA text html latex example chm filter.std text html latex example chm kmeans2 text html latex example chm kmeans2.plot text html latex example chm mfuzz text html latex example chm mfuzz.plot text html latex example chm mfuzzColorBar text html latex example chm overlap text html latex example chm overlap.plot text html latex example chm partcoef text html latex example chm randomise text html latex example chm standardise text html latex example chm standardise2 text html latex example chm top.count text html latex example chm yeast text html latex chm Microsoft HTML Help Compiler 4.74.8702 Compiling d:\biocbld\work-area\1.8d\madman\Rpacks\R.INSTALL\Mfuzz\chm\Mfuzz.chm Compile time: 0 minutes, 0 seconds 19 Topics 36 Local links 17 Internet links 1 Graphic Created d:\biocbld\work-area\1.8d\madman\Rpacks\R.INSTALL\Mfuzz\chm\Mfuzz.chm, 33,789 bytes Compression decreased file by 21,036 bytes. adding MD5 sums packaged installation of package 'Mfuzz' as Mfuzz_0.10.0.zip * DONE (Mfuzz)