Back to Multiple platform build/check report
Package: RMAPPER |
Version: 1.2.0 |
Command: D:\biocbld\R-2.3.0\bin\R.exe CMD INSTALL --build RMAPPER_1.2.0.tar.gz |
RetCode: 0 |
Time: 7.5 seconds |
Status: OK |
PackageFile: RMAPPER_1.2.0.zip |
Using auto-selected zip options '' ---------- Making package RMAPPER ------------ adding build stamp to DESCRIPTION installing R files installing inst files installing man source files installing indices installing help >>> Building/Updating help pages for package 'RMAPPER' Formats: text html latex example chm mapperHits-class text html latex example chm readMapper text html latex example chm Microsoft HTML Help Compiler 4.74.8702 Compiling d:\biocbld\work-area\1.8d\madman\Rpacks\R.INSTALL\RMAPPER\chm\RMAPPER.chm Compile time: 0 minutes, 0 seconds 3 Topics 10 Local links 1 Internet link 1 Graphic Created d:\biocbld\work-area\1.8d\madman\Rpacks\R.INSTALL\RMAPPER\chm\RMAPPER.chm, 19,517 bytes Compression increased file by 6,441 bytes. adding MD5 sums packaged installation of package 'RMAPPER' as RMAPPER_1.2.0.zip * DONE (RMAPPER)