Back to Multiple platform build/check report
Package: RankProd |
Version: 2.4.0 |
Command: D:\biocbld\R-2.3.0\bin\R.exe CMD build RankProd |
RetCode: 0 |
Time: 47.1 seconds |
Status: OK |
PackageFile: RankProd_2.4.0.tar.gz |
* checking for file 'RankProd/DESCRIPTION' ... OK * preparing 'RankProd': * checking DESCRIPTION meta-information ... OK * installing the package to re-build vignettes installing R.css in D:/biocbld/work-area/1.8d/tmpdir/Rinst662469909 ---------- Making package RankProd ------------ adding build stamp to DESCRIPTION installing R files installing inst files installing data files installing man source files Warning message: incomplete final line found by readLines on './man/arab.Rd' installing indices not zipping data installing help >>> Building/Updating help pages for package 'RankProd' Formats: text html latex example chm RP text html latex example chm RPadvance text html latex example chm RSadvance text html latex example chm RankProd-internal text html latex chm arab text html latex chm golub text html latex chm lymphoma text html latex chm plotGene text html latex example chm plotRP text html latex example chm topGene text html latex example chm Microsoft HTML Help Compiler 4.74.8702 Compiling d:\biocbld\work-area\1.8d\madman\Rpacks\RankProd\chm\RankProd.chm Compile time: 0 minutes, 0 seconds 11 Topics 42 Local links 1 Internet link 1 Graphic Created d:\biocbld\work-area\1.8d\madman\Rpacks\RankProd\chm\RankProd.chm, 33,739 bytes Compression decreased file by 15,661 bytes. preparing package RankProd for lazy loading adding MD5 sums * DONE (RankProd) * creating vignettes ... OK * removing junk files * checking for LF line-endings in source files * checking for empty or unneeded directories * building 'RankProd_2.4.0.tar.gz'