Back to Multiple platform build/check report
Package: Rgraphviz |
Version: 1.10.0 |
Command: D:\biocbld\R-2.3.0\bin\R.exe CMD build Rgraphviz |
RetCode: 0 |
Time: 100.6 seconds |
Status: OK |
PackageFile: Rgraphviz_1.10.0.tar.gz |
* checking for file 'Rgraphviz/DESCRIPTION' ... OK * preparing 'Rgraphviz': * checking DESCRIPTION meta-information ... OK * cleaning src * installing the package to re-build vignettes installing R.css in D:/biocbld/work-area/1.8d/tmpdir/Rinst653699871 ---------- Making package Rgraphviz ------------ ********************************************** WARNING: this package has a configure script It probably needs manual configuration ********************************************** adding build stamp to DESCRIPTION installing NAMESPACE file and metadata making DLL ... making Rgraphviz.d from Rgraphviz.c making RgraphvizInit.d from RgraphvizInit.c gcc -I../graphviz-win32/include -DGRAPHVIZGT_1_16 -DWin32 -Id:/biocbld/R-2.3.0/include -Wall -O2 -c Rgraphviz.c -o Rgraphviz.o In file included from ../graphviz-win32/include/render.h:53, from common.h:32, from Rgraphviz.c:1: ../graphviz-win32/include/macros.h:41:1: warning: "NEW" redefined In file included from common.h:15, from Rgraphviz.c:1: d:/biocbld/R-2.3.0/include/Rdefines.h:134:1: warning: this is the location of the previous definition Rgraphviz.c: In function `Rgraphviz_doLayout': Rgraphviz.c:418: warning: implicit declaration of function `circo_layout' Rgraphviz.c: At top level: common.h:47: warning: 'gvc' defined but not used gcc -I../graphviz-win32/include -DGRAPHVIZGT_1_16 -DWin32 -Id:/biocbld/R-2.3.0/include -Wall -O2 -c RgraphvizInit.c -o RgraphvizInit.o In file included from ../graphviz-win32/include/render.h:53, from common.h:32, from RgraphvizInit.c:1: ../graphviz-win32/include/macros.h:41:1: warning: "NEW" redefined In file included from common.h:15, from RgraphvizInit.c:1: d:/biocbld/R-2.3.0/include/Rdefines.h:134:1: warning: this is the location of the previous definition common.h:47: warning: 'gvc' defined but not used windres --include-dir d:/biocbld/R-2.3.0/include -i Rgraphviz_res.rc -o Rgraphviz_res.o gcc -shared -s -o Rgraphviz.dll Rgraphviz.def Rgraphviz.o RgraphvizInit.o Rgraphviz_res.o -Ld:/biocbld/R-2.3.0/bin -L../graphviz-win32/lib -ldotgen -ltwopigen -lcircogen -lneatogen -lpack -lcommon -lpathplan -lgvrender -lgvgd -lgraph -lagraph -lcdt -lR ... DLL made installing DLL installing R files save image Loading required package: graph Loading required package: Ruuid Creating a new generic function for 'lines' in 'Rgraphviz' Creating a new generic function for 'plot' in 'Rgraphviz' installing inst files installing man source files installing indices installing help >>> Building/Updating help pages for package 'Rgraphviz' Formats: text html latex example chm AgEdge-class text html latex example chm AgNode-class text html latex example chm AgTextLabel-class text html latex example chm BezierCurve-class text html latex example chm GraphvizAttributes text html latex example chm GraphvizLayouts text html latex example chm Ragraph-class text html latex example chm agopen text html latex example chm agwrite text html latex example chm boundingBox-class text html latex example chm buildNodeList text html latex example chm getDefaultAttrs text html latex example chm graphvizVersion text html latex example chm imageMap text html latex example chm layoutGraph text html latex example chm makeNodeAttrs text html latex example chm pEdge-class text html latex example chm pNode-class text html latex example chm pieGlyph text html latex example chm plot-methods text html latex example chm removedEdges text html latex example chm toDot-methods text html latex example chm xyPoint-class text html latex example chm Microsoft HTML Help Compiler 4.74.8702 Compiling d:\biocbld\work-area\1.8d\madman\Rpacks\Rgraphviz\chm\Rgraphviz.chm Compile time: 0 minutes, 0 seconds 24 Topics 245 Local links 6 Internet links 1 Graphic Created d:\biocbld\work-area\1.8d\madman\Rpacks\Rgraphviz\chm\Rgraphviz.chm, 74,383 bytes Compression decreased file by 94,241 bytes. adding MD5 sums * DONE (Rgraphviz) * creating vignettes ... OK * cleaning src * removing junk files * checking for LF line-endings in source files * checking for empty or unneeded directories * building 'Rgraphviz_1.10.0.tar.gz'