Back to Multiple platform build/check report
Package: SAGElyzer |
Version: 1.10.0 |
Command: D:\biocbld\R-2.3.0\bin\R.exe CMD build SAGElyzer |
RetCode: 0 |
Time: 35.1 seconds |
Status: OK |
PackageFile: SAGElyzer_1.10.0.tar.gz |
* checking for file 'SAGElyzer/DESCRIPTION' ... OK * preparing 'SAGElyzer': * checking DESCRIPTION meta-information ... OK * installing the package to re-build vignettes installing R.css in D:/biocbld/work-area/1.8d/tmpdir/Rinst662843704 ---------- Making package SAGElyzer ------------ adding build stamp to DESCRIPTION installing NAMESPACE file and metadata installing R files installing exec files installing inst files installing data files installing man source files installing indices not zipping data installing help >>> Building/Updating help pages for package 'SAGElyzer' Formats: text html latex example chm SAGELyzer text html latex example chm SAGEMapper text html latex example chm SAGEToolTips text html latex example chm SAGEWidget text html latex example chm con4Win text html latex example chm getGEOSAGE text html latex example chm getNormFactor text html latex example chm getTargetRow text html latex example chm mergeSAGE text html latex example chm mergeSAGEWidget text html latex example chm querySAGE text html latex example chm selectLibs text html latex example chm Microsoft HTML Help Compiler 4.74.8702 Compiling d:\biocbld\work-area\1.8d\madman\Rpacks\SAGElyzer\chm\SAGElyzer.chm Compile time: 0 minutes, 0 seconds 13 Topics 153 Local links 5 Internet links 1 Graphic Created d:\biocbld\work-area\1.8d\madman\Rpacks\SAGElyzer\chm\SAGElyzer.chm, 41,971 bytes Compression decreased file by 40,808 bytes. preparing package SAGElyzer for lazy loading Welcome to Bioconductor Vignettes contain introductory material. To view, type 'openVignette()' or start with 'help(Biobase)'. For details on reading vignettes, see the openVignette help page. adding MD5 sums * DONE (SAGElyzer) * creating vignettes ... OK * removing junk files * checking for LF line-endings in source files * checking for empty or unneeded directories * building 'SAGElyzer_1.10.0.tar.gz'