Back to Multiple platform build/check report
Package: adSplit |
Version: 1.2.0 |
Command: D:\biocbld\R-2.3.0\bin\R.exe CMD build adSplit |
RetCode: 0 |
Time: 71.5 seconds |
Status: OK |
PackageFile: adSplit_1.2.0.tar.gz |
* checking for file 'adSplit/DESCRIPTION' ... OK * preparing 'adSplit': * checking DESCRIPTION meta-information ... OK * cleaning src * installing the package to re-build vignettes installing R.css in D:/biocbld/work-area/1.8d/tmpdir/Rinst228040539 ---------- Making package adSplit ------------ adding build stamp to DESCRIPTION installing NAMESPACE file and metadata making DLL ... making adSplit.d from adSplit.cpp g++ -Id:/biocbld/R-2.3.0/include -Wall -O2 -c adSplit.cpp -o adSplit.o windres --include-dir d:/biocbld/R-2.3.0/include -i adSplit_res.rc -o adSplit_res.o g++ -shared -s -o adSplit.dll adSplit.def adSplit.o adSplit_res.o -Ld:/biocbld/R-2.3.0/bin -lR ... DLL made installing DLL installing R files save image Loading required package: cluster Loading required package: multtest Loading required package: Biobase Loading required package: tools Welcome to Bioconductor Vignettes contain introductory material. To view, type 'openVignette()' or start with 'help(Biobase)'. For details on reading vignettes, see the openVignette help page. Loading required package: survival Loading required package: splines Loading required package: Biobase Loading required package: affy Loading required package: affyio Loading required package: GO Loading required package: KEGG installing inst files installing data files installing man source files installing indices not zipping data installing help >>> Building/Updating help pages for package 'adSplit' Formats: text html latex example chm adSplit-internal text html latex chm adSplit text html latex example chm diana2means text html latex example chm drawRandomPS text html latex example chm golubKEGGSplits text html latex example chm hist.splitSet text html latex example chm image.splitSet text html latex example chm makeLID2PROBESenv text html latex example chm print.split text html latex chm print.splitSet text html latex example chm randomDiana2means text html latex example chm Microsoft HTML Help Compiler 4.74.8702 Compiling d:\biocbld\work-area\1.8d\madman\Rpacks\adSplit\chm\adSplit.chm Compile time: 0 minutes, 0 seconds 12 Topics 28 Local links 0 Internet links 1 Graphic Created d:\biocbld\work-area\1.8d\madman\Rpacks\adSplit\chm\adSplit.chm, 28,231 bytes Compression decreased file by 6,133 bytes. adding MD5 sums * DONE (adSplit) * creating vignettes ... OK * cleaning src * removing junk files * checking for LF line-endings in source files * checking for empty or unneeded directories * building 'adSplit_1.2.0.tar.gz'