Back to Multiple platform build/check report
Package: affylmGUI |
Version: 1.6.0 |
Command: D:\biocbld\R-2.3.0\bin\R.exe CMD INSTALL --build affylmGUI_1.6.0.tar.gz |
RetCode: 0 |
Time: 14.0 seconds |
Status: OK |
PackageFile: affylmGUI_1.6.0.zip |
Using auto-selected zip options '' ---------- Making package affylmGUI ------------ adding build stamp to DESCRIPTION installing R files installing inst files installing man source files installing indices installing help >>> Building/Updating help pages for package 'affylmGUI' Formats: text html latex example chm ALGchangeLog text html latex chm affylmGUI text html latex chm Microsoft HTML Help Compiler 4.74.8702 Compiling d:\biocbld\work-area\1.8d\madman\Rpacks\R.INSTALL\affylmGUI\chm\affylmGUI.chm Compile time: 0 minutes, 0 seconds 3 Topics 109 Local links 0 Internet links 1 Graphic Created d:\biocbld\work-area\1.8d\madman\Rpacks\R.INSTALL\affylmGUI\chm\affylmGUI.chm, 22,973 bytes Compression decreased file by 24,587 bytes. preparing package affylmGUI for lazy loading Welcome to Bioconductor Vignettes contain introductory material. To view, type 'openVignette()' or start with 'help(Biobase)'. For details on reading vignettes, see the openVignette help page. adding MD5 sums packaged installation of package 'affylmGUI' as affylmGUI_1.6.0.zip * DONE (affylmGUI)