Back to Multiple platform build/check report
Package: affylmGUI |
Version: 1.6.0 |
Command: D:\biocbld\R-2.3.0\bin\R.exe CMD build affylmGUI |
RetCode: 0 |
Time: 33.8 seconds |
Status: OK |
PackageFile: affylmGUI_1.6.0.tar.gz |
* checking for file 'affylmGUI/DESCRIPTION' ... OK * preparing 'affylmGUI': * checking DESCRIPTION meta-information ... OK * checking whether 'INDEX' is up-to-date ... NO * use '--force' to overwrite the existing 'INDEX' * installing the package to re-build vignettes installing R.css in D:/biocbld/work-area/1.8d/tmpdir/Rinst440402801 ---------- Making package affylmGUI ------------ adding build stamp to DESCRIPTION installing R files installing inst files installing man source files installing indices installing help >>> Building/Updating help pages for package 'affylmGUI' Formats: text html latex example chm ALGchangeLog text html latex chm affylmGUI text html latex chm Microsoft HTML Help Compiler 4.74.8702 Compiling d:\biocbld\work-area\1.8d\madman\Rpacks\affylmGUI\chm\affylmGUI.chm Compile time: 0 minutes, 0 seconds 3 Topics 109 Local links 0 Internet links 1 Graphic Created d:\biocbld\work-area\1.8d\madman\Rpacks\affylmGUI\chm\affylmGUI.chm, 22,975 bytes Compression decreased file by 24,585 bytes. preparing package affylmGUI for lazy loading Welcome to Bioconductor Vignettes contain introductory material. To view, type 'openVignette()' or start with 'help(Biobase)'. For details on reading vignettes, see the openVignette help page. adding MD5 sums * DONE (affylmGUI) * creating vignettes ... OK * removing junk files * checking for LF line-endings in source files * checking for empty or unneeded directories * building 'affylmGUI_1.6.0.tar.gz'