Back to Multiple platform build/check report
Package: affypdnn |
Version: 1.6.0 |
Command: D:\biocbld\R-2.3.0\bin\R.exe CMD INSTALL --build affypdnn_1.6.0.tar.gz |
RetCode: 0 |
Time: 36.0 seconds |
Status: OK |
PackageFile: affypdnn_1.6.0.zip |
Using auto-selected zip options 'affypdnn-ZIPDATA=zip' ---------- Making package affypdnn ------------ adding build stamp to DESCRIPTION installing R files installing inst files installing data files installing man source files installing indices zipping data installing help >>> Building/Updating help pages for package 'affypdnn' Formats: text html latex example chm chiptype.pdnn.params text html latex example chm expressopdnn text html latex example chm find.params.pdnn text html latex example chm generateExprVal.method.pdnn text html latex example chm matplotProbesPDNN text html latex example chm pdnn.params.chiptype text html latex example chm transform.ProbeSet text html latex example chm Microsoft HTML Help Compiler 4.74.8702 Compiling d:\biocbld\work-area\1.8d\madman\Rpacks\R.INSTALL\affypdnn\chm\affypdnn.chm Compile time: 0 minutes, 0 seconds 8 Topics 31 Local links 0 Internet links 1 Graphic Created d:\biocbld\work-area\1.8d\madman\Rpacks\R.INSTALL\affypdnn\chm\affypdnn.chm, 27,617 bytes Compression decreased file by 7,743 bytes. preparing package affypdnn for lazy loading Welcome to Bioconductor Vignettes contain introductory material. To view, type 'openVignette()' or start with 'help(Biobase)'. For details on reading vignettes, see the openVignette help page. adding MD5 sums packaged installation of package 'affypdnn' as affypdnn_1.6.0.zip * DONE (affypdnn)