Back to Multiple platform build/check report
Package: altcdfenvs |
Version: 1.6.0 |
Command: D:\biocbld\R-2.3.0\bin\R.exe CMD INSTALL --build altcdfenvs_1.6.0.tar.gz |
RetCode: 0 |
Time: 14.5 seconds |
Status: OK |
PackageFile: altcdfenvs_1.6.0.zip |
Using auto-selected zip options '' ---------- Making package altcdfenvs ------------ adding build stamp to DESCRIPTION installing R files save image Loading required package: Biobase Loading required package: tools Welcome to Bioconductor Vignettes contain introductory material. To view, type 'openVignette()' or start with 'help(Biobase)'. For details on reading vignettes, see the openVignette help page. Loading required package: affy Loading required package: affyio Loading required package: matchprobes Loading required package: makecdfenv [1] "CdfEnvAffy" [1] "geneNames" [1] "[" [1] "indexProbes" [1] "index2xy" [1] "index2xy" [1] "xy2index" [1] "xy2index" Creating a new generic function for 'plot' in 'altcdfenvs' [1] "plot" [1] "show" installing inst files installing data files installing man source files installing indices not zipping data installing help >>> Building/Updating help pages for package 'altcdfenvs' Formats: text html latex example chm CdfEnvAffy-class text html latex example chm appendCdfEnvAffy text html latex example chm cdfenv text html latex example chm cdfenvEx text html latex example chm copyCdfEnvAffy text html latex chm countduplicated text html latex example chm geneNames text html latex chm getxy.probeseq text html latex example chm index2xy text html latex example chm indexProbes.CdfEnvAffy text html latex example chm plot.CdfEnvAffy text html latex example chm removeIndex text html latex example chm unique.CdfEnvAffy text html latex example chm utils.FASTA text html latex example chm validAffyBatch text html latex example chm Microsoft HTML Help Compiler 4.74.8702 Compiling d:\biocbld\work-area\1.8d\madman\Rpacks\R.INSTALL\altcdfenvs\chm\altcdfenvs.chm Compile time: 0 minutes, 0 seconds 16 Topics 66 Local links 0 Internet links 1 Graphic Created d:\biocbld\work-area\1.8d\madman\Rpacks\R.INSTALL\altcdfenvs\chm\altcdfenvs.chm, 31,751 bytes Compression decreased file by 24,168 bytes. adding MD5 sums packaged installation of package 'altcdfenvs' as altcdfenvs_1.6.0.zip * DONE (altcdfenvs)