Back to Multiple platform build/check report
Package: bioDist |
Version: 1.4.0 |
Command: D:\biocbld\R-2.3.0\bin\R.exe CMD INSTALL --build bioDist_1.4.0.tar.gz |
RetCode: 0 |
Time: 9.0 seconds |
Status: OK |
PackageFile: bioDist_1.4.0.zip |
Using auto-selected zip options '' ---------- Making package bioDist ------------ adding build stamp to DESCRIPTION installing NAMESPACE file and metadata installing R files installing man source files installing indices installing help >>> Building/Updating help pages for package 'bioDist' Formats: text html latex example chm KLD.matrix text html latex example chm KLdist.matrix text html latex example chm closest.top text html latex example chm cor.dist text html latex example chm euc text html latex example chm man text html latex example chm mutualInfo text html latex example chm spearman.dist text html latex example chm tau.dist text html latex example chm Microsoft HTML Help Compiler 4.74.8702 Compiling d:\biocbld\work-area\1.8d\madman\Rpacks\R.INSTALL\bioDist\chm\bioDist.chm Compile time: 0 minutes, 0 seconds 10 Topics 94 Local links 0 Internet links 1 Graphic Created d:\biocbld\work-area\1.8d\madman\Rpacks\R.INSTALL\bioDist\chm\bioDist.chm, 22,611 bytes Compression decreased file by 12,746 bytes. adding MD5 sums packaged installation of package 'bioDist' as bioDist_1.4.0.zip * DONE (bioDist)