Back to Multiple platform build/check report
Package: factDesign |
Version: 1.6.0 |
Command: D:\biocbld\R-2.3.0\bin\R.exe CMD INSTALL --build factDesign_1.6.0.tar.gz |
RetCode: 0 |
Time: 8.5 seconds |
Status: OK |
PackageFile: factDesign_1.6.0.zip |
Using auto-selected zip options '' ---------- Making package factDesign ------------ adding build stamp to DESCRIPTION installing R files installing inst files installing data files installing man source files installing indices not zipping data installing help >>> Building/Updating help pages for package 'factDesign' Formats: text html latex example chm contrasts text html latex example chm estrogen text html latex example chm findFC text html latex example chm kRepsOverA text html latex example chm outliers text html latex example chm Microsoft HTML Help Compiler 4.74.8702 Compiling d:\biocbld\work-area\1.8d\madman\Rpacks\R.INSTALL\factDesign\chm\factDesign.chm Compile time: 0 minutes, 0 seconds 6 Topics 14 Local links 0 Internet links 1 Graphic Created d:\biocbld\work-area\1.8d\madman\Rpacks\R.INSTALL\factDesign\chm\factDesign.chm, 24,283 bytes Compression increased file by 356 bytes. adding MD5 sums packaged installation of package 'factDesign' as factDesign_1.6.0.zip * DONE (factDesign)