Back to Multiple platform build/check report
Package: gcrma |
Version: 2.4.0 |
Command: D:\biocbld\R-2.3.0\bin\R.exe CMD build gcrma |
RetCode: 0 |
Time: 47.1 seconds |
Status: OK |
PackageFile: gcrma_2.4.0.tar.gz |
* checking for file 'gcrma/DESCRIPTION' ... OK * preparing 'gcrma': * checking DESCRIPTION meta-information ... OK * cleaning src * checking whether 'INDEX' is up-to-date ... NO * use '--force' to overwrite the existing 'INDEX' * installing the package to re-build vignettes installing R.css in D:/biocbld/work-area/1.8d/tmpdir/Rinst726803720 ---------- Making package gcrma ------------ adding build stamp to DESCRIPTION installing NAMESPACE file and metadata making DLL ... making baseProfile.d from baseProfile.c making computeAffinities.d from computeAffinities.c making postmean.d from postmean.c gcc -Id:/biocbld/R-2.3.0/include -Wall -O2 -c baseProfile.c -o baseProfile.o baseProfile.c: In function `gcrma_getSeq2': baseProfile.c:14: warning: unused variable `nx' gcc -Id:/biocbld/R-2.3.0/include -Wall -O2 -c computeAffinities.c -o computeAffinities.o gcc -Id:/biocbld/R-2.3.0/include -Wall -O2 -c postmean.c -o postmean.o windres --include-dir d:/biocbld/R-2.3.0/include -i gcrma_res.rc -o gcrma_res.o gcc -shared -s -o gcrma.dll gcrma.def baseProfile.o computeAffinities.o postmean.o gcrma_res.o -Ld:/biocbld/R-2.3.0/bin -lR ... DLL made installing DLL installing R files installing inst files installing data files installing man source files installing indices not zipping data installing help >>> Building/Updating help pages for package 'gcrma' Formats: text html latex example chm affinity.spline.coefs text html latex chm bg.adjust.affinities text html latex chm bg.adjust.gcrma text html latex example chm bg.parameters.ns text html latex chm compute.affinities text html latex chm fast.bkg text html latex chm gcrma text html latex example chm gcrma.engine text html latex example chm gcrma.engine2 text html latex example chm getCDF text html latex chm justGCRMA text html latex example chm Microsoft HTML Help Compiler 4.74.8702 Compiling d:\biocbld\work-area\1.8d\madman\Rpacks\gcrma\chm\gcrma.chm Compile time: 0 minutes, 0 seconds 12 Topics 44 Local links 0 Internet links 1 Graphic Created d:\biocbld\work-area\1.8d\madman\Rpacks\gcrma\chm\gcrma.chm, 32,079 bytes Compression decreased file by 22,674 bytes. preparing package gcrma for lazy loading Welcome to Bioconductor Vignettes contain introductory material. To view, type 'openVignette()' or start with 'help(Biobase)'. For details on reading vignettes, see the openVignette help page. adding MD5 sums * DONE (gcrma) * creating vignettes ... OK * cleaning src * removing junk files * checking for LF line-endings in source files * checking for empty or unneeded directories * building 'gcrma_2.4.0.tar.gz'