Back to Multiple platform build/check report
Package: genefilter |
Version: 1.10.1 |
Command: D:\biocbld\R-2.3.0\bin\R.exe CMD INSTALL --build genefilter_1.10.1.tar.gz |
RetCode: 0 |
Time: 15.5 seconds |
Status: OK |
PackageFile: genefilter_1.10.1.zip |
Using auto-selected zip options 'genefilter-ZIPDATA=zip' ---------- Making package genefilter ------------ adding build stamp to DESCRIPTION installing NAMESPACE file and metadata making DLL ... making genedist.d from genedist.c making init.d from init.c making rowPAUCs.d from rowPAUCs.c making rowttests.d from rowttests.c gcc -ID:/biocbld/R-2.3.0/include -Wall -O2 -c genedist.c -o genedist.o genedist.c: In function `mm_dist_binary': genedist.c:233: warning: unused variable `w1' genedist.c:233: warning: unused variable `w2' gcc -ID:/biocbld/R-2.3.0/include -Wall -O2 -c init.c -o init.o gcc -ID:/biocbld/R-2.3.0/include -Wall -O2 -c rowPAUCs.c -o rowPAUCs.o gcc -ID:/biocbld/R-2.3.0/include -Wall -O2 -c rowttests.c -o rowttests.o g77 -O2 -Wall -c ttest.f -o ttest.o windres --include-dir D:/biocbld/R-2.3.0/include -i genefilter_res.rc -o genefilter_res.o gcc -shared -s -o genefilter.dll genefilter.def genedist.o init.o rowPAUCs.o rowttests.o ttest.o genefilter_res.o -LD:/biocbld/R-2.3.0/bin -lg2c -lR ... DLL made installing DLL installing R files save image Loading required package: Biobase Loading required package: tools Welcome to Bioconductor Vignettes contain introductory material. To view, type 'openVignette()' or start with 'help(Biobase)'. For details on reading vignettes, see the openVignette help page. Loading required package: survival Loading required package: splines installing inst files installing data files installing man source files installing indices zipping data installing help >>> Building/Updating help pages for package 'genefilter' Formats: text html latex example chm Anova text html latex example chm allNA text html latex example chm coxfilter text html latex example chm cv text html latex example chm eSetFilter text html latex example chm filterfun text html latex example chm findLargest text html latex example chm gapFilter text html latex example chm genefilter text html latex example chm genefinder text html latex example chm genescale text html latex example chm kOverA text html latex example chm maxA text html latex example chm pOverA text html latex example chm rowFtests text html latex example chm rowSds text html latex example chm rowpAUCs text html latex example chm shorth text html latex example chm tdata text html latex example chm ttest text html latex example chm Microsoft HTML Help Compiler 4.74.8702 Compiling d:\biocbld\work-area\1.8d\madman\Rpacks\R.INSTALL\genefilter\chm\genefilter.chm Compile time: 0 minutes, 0 seconds 21 Topics 73 Local links 2 Internet links 1 Graphic Created d:\biocbld\work-area\1.8d\madman\Rpacks\R.INSTALL\genefilter\chm\genefilter.chm, 42,095 bytes Compression decreased file by 29,395 bytes. adding MD5 sums packaged installation of package 'genefilter' as genefilter_1.10.1.zip * DONE (genefilter)