Back to Multiple platform build/check report
Package: globaltest |
Version: 4.2.0 |
Command: D:\biocbld\R-2.3.0\bin\R.exe CMD build globaltest |
RetCode: 0 |
Time: 124.1 seconds |
Status: OK |
PackageFile: globaltest_4.2.0.tar.gz |
* checking for file 'globaltest/DESCRIPTION' ... OK * preparing 'globaltest': * checking DESCRIPTION meta-information ... OK * installing the package to re-build vignettes installing R.css in D:/biocbld/work-area/1.8d/tmpdir/Rinst25255279 ---------- Making package globaltest ------------ adding build stamp to DESCRIPTION installing NAMESPACE file and metadata installing R files save image Loading required package: multtest Loading required package: Biobase Loading required package: tools Welcome to Bioconductor Vignettes contain introductory material. To view, type 'openVignette()' or start with 'help(Biobase)'. For details on reading vignettes, see the openVignette help page. Loading required package: survival Loading required package: splines Creating a new generic function for 'fitted.values' in 'globaltest' Creating a new generic function for 'residuals' in 'globaltest' installing inst files installing data files installing man source files installing indices not zipping data installing help >>> Building/Updating help pages for package 'globaltest' Formats: text html latex example chm annotation.vandeVijver text html latex chm checkerboard text html latex example chm geneplot text html latex example chm globaltest text html latex example chm gt.barplot-class text html latex chm gt.result-class text html latex chm mlogit text html latex example chm multtest text html latex example chm permutations text html latex example chm regressionplot text html latex example chm sampleplot text html latex example chm sampling text html latex example chm vandeVijver text html latex chm Microsoft HTML Help Compiler 4.74.8702 Compiling d:\biocbld\work-area\1.8d\madman\Rpacks\globaltest\chm\globaltest.chm Compile time: 0 minutes, 0 seconds 14 Topics 130 Local links 0 Internet links 1 Graphic Created d:\biocbld\work-area\1.8d\madman\Rpacks\globaltest\chm\globaltest.chm, 41,327 bytes Compression decreased file by 36,646 bytes. adding MD5 sums * DONE (globaltest) * creating vignettes ... OK * removing junk files * checking for LF line-endings in source files * checking for empty or unneeded directories * building 'globaltest_4.2.0.tar.gz'