Back to Multiple platform build/check report
Package: gpls |
Version: 1.4.0 |
Command: D:\biocbld\R-2.3.0\bin\R.exe CMD INSTALL --build gpls_1.4.0.tar.gz |
RetCode: 0 |
Time: 9.5 seconds |
Status: OK |
PackageFile: gpls_1.4.0.zip |
Using auto-selected zip options '' ---------- Making package gpls ------------ adding build stamp to DESCRIPTION installing NAMESPACE file and metadata installing R files installing inst files installing man source files installing indices installing help >>> Building/Updating help pages for package 'gpls' Formats: text html latex example chm glpls1a text html latex example chm glpls1a.cv.error text html latex example chm glpls1a.logit.all text html latex example chm glpls1a.mlogit text html latex example chm glpls1a.mlogit.cv.error text html latex example chm glpls1a.train.test.error text html latex example chm gpls text html latex example chm predict.gpls text html latex example chm Microsoft HTML Help Compiler 4.74.8702 Compiling d:\biocbld\work-area\1.8d\madman\Rpacks\R.INSTALL\gpls\chm\gpls.chm Compile time: 0 minutes, 0 seconds 9 Topics 51 Local links 0 Internet links 1 Graphic Created d:\biocbld\work-area\1.8d\madman\Rpacks\R.INSTALL\gpls\chm\gpls.chm, 25,413 bytes Compression decreased file by 12,395 bytes. adding MD5 sums packaged installation of package 'gpls' as gpls_1.4.0.zip * DONE (gpls)