Back to Multiple platform build/check report
Package: hopach |
Version: 1.6.0 |
Command: D:\biocbld\R-2.3.0\bin\R.exe CMD build hopach |
RetCode: 0 |
Time: 129.8 seconds |
Status: OK |
PackageFile: hopach_1.6.0.tar.gz |
* checking for file 'hopach/DESCRIPTION' ... OK * preparing 'hopach': * checking DESCRIPTION meta-information ... OK * checking whether 'INDEX' is up-to-date ... NO * use '--force' to overwrite the existing 'INDEX' * installing the package to re-build vignettes installing R.css in D:/biocbld/work-area/1.8d/tmpdir/Rinst462844070 ---------- Making package hopach ------------ adding build stamp to DESCRIPTION installing R files installing inst files installing data files installing man source files installing indices not zipping data installing help >>> Building/Updating help pages for package 'hopach' Formats: text html latex example chm boot2fuzzy text html latex example chm bootplot text html latex example chm bootstrap text html latex example chm correlationordering text html latex example chm disscosangle text html latex example chm distancematrix text html latex example chm dplot text html latex example chm golub text html latex chm hopach text html latex example chm hopach.internal text html latex example chm hopach2tree text html latex example chm labelstomss text html latex example chm makeoutput text html latex example chm prune text html latex example chm Microsoft HTML Help Compiler 4.74.8702 Compiling d:\biocbld\work-area\1.8d\madman\Rpacks\hopach\chm\hopach.chm Compile time: 0 minutes, 0 seconds 15 Topics 69 Local links 22 Internet links 1 Graphic Created d:\biocbld\work-area\1.8d\madman\Rpacks\hopach\chm\hopach.chm, 60,117 bytes Compression decreased file by 50,799 bytes. preparing package hopach for lazy loading Welcome to Bioconductor Vignettes contain introductory material. To view, type 'openVignette()' or start with 'help(Biobase)'. For details on reading vignettes, see the openVignette help page. adding MD5 sums * DONE (hopach) * creating vignettes ... OK * removing junk files * checking for LF line-endings in source files * checking for empty or unneeded directories * building 'hopach_1.6.0.tar.gz'