Back to Multiple platform build/check report
Package: maCorrPlot |
Version: 1.2.0 |
Command: D:\biocbld\R-2.3.0\bin\R.exe CMD build maCorrPlot |
RetCode: 0 |
Time: 23.5 seconds |
Status: OK |
PackageFile: maCorrPlot_1.2.0.tar.gz |
* checking for file 'maCorrPlot/DESCRIPTION' ... OK * preparing 'maCorrPlot': * checking DESCRIPTION meta-information ... OK * installing the package to re-build vignettes installing R.css in D:/biocbld/work-area/1.8d/tmpdir/Rinst307280813 ---------- Making package maCorrPlot ------------ adding build stamp to DESCRIPTION installing R files installing inst files installing data files installing man source files installing indices not zipping data installing help >>> Building/Updating help pages for package 'maCorrPlot' Formats: text html latex example chm CorrSample text html latex example chm CutCI text html latex example chm oligodata text html latex example chm plot.corr.sample text html latex example chm Microsoft HTML Help Compiler 4.74.8702 Compiling d:\biocbld\work-area\1.8d\madman\Rpacks\maCorrPlot\chm\maCorrPlot.chm Compile time: 0 minutes, 0 seconds 5 Topics 22 Local links 2 Internet links 1 Graphic Created d:\biocbld\work-area\1.8d\madman\Rpacks\maCorrPlot\chm\maCorrPlot.chm, 27,717 bytes Compression decreased file by 1,294 bytes. adding MD5 sums * DONE (maCorrPlot) * creating vignettes ... OK * removing junk files * checking for LF line-endings in source files * checking for empty or unneeded directories * building 'maCorrPlot_1.2.0.tar.gz'