Back to Multiple platform build/check report
Package: maSigPro |
Version: 1.4.0 |
Command: D:\biocbld\R-2.3.0\bin\R.exe CMD build maSigPro |
RetCode: 0 |
Time: 24.5 seconds |
Status: OK |
PackageFile: maSigPro_1.4.0.tar.gz |
* checking for file 'maSigPro/DESCRIPTION' ... OK * preparing 'maSigPro': * checking DESCRIPTION meta-information ... OK * installing the package to re-build vignettes installing R.css in D:/biocbld/work-area/1.8d/tmpdir/Rinst522434701 ---------- Making package maSigPro ------------ adding build stamp to DESCRIPTION installing R files save image Loading required package: Biobase Loading required package: tools Welcome to Bioconductor Vignettes contain introductory material. To view, type 'openVignette()' or start with 'help(Biobase)'. For details on reading vignettes, see the openVignette help page. installing inst files installing data files installing man source files Warning messages: 1: incomplete final line found by readLines on './man/PlotGroups.Rd' 2: incomplete final line found by readLines on './man/edesign.abiotic.Rd' 3: incomplete final line found by readLines on './man/get.siggenes.Rd' 4: incomplete final line found by readLines on './man/i.rank.Rd' 5: incomplete final line found by readLines on './man/make.design.matrix.Rd' 6: incomplete final line found by readLines on './man/p.vector.Rd' 7: incomplete final line found by readLines on './man/position.Rd' 8: incomplete final line found by readLines on './man/stepfor.Rd' 9: incomplete final line found by readLines on './man/two.ways.stepfor.Rd' installing indices not zipping data installing help >>> Building/Updating help pages for package 'maSigPro' Formats: text html latex example chm PlotGroups text html latex example chm PlotProfiles text html latex example chm T.fit text html latex example chm average.rows text html latex example chm data.abiotic text html latex example chm edesign.OD text html latex example chm edesign.abiotic text html latex example chm edesignCT text html latex example chm edesignDR text html latex example chm get.siggenes text html latex example chm i.rank text html latex example chm maSigPro text html latex example chm make.design.matrix text html latex example chm p.vector text html latex example chm position text html latex example chm reg.coeffs text html latex example chm see.genes text html latex example chm stepback text html latex example chm stepfor text html latex example chm suma2Venn text html latex example chm two.ways.stepback text html latex example chm two.ways.stepfor text html latex example chm Microsoft HTML Help Compiler 4.74.8702 Compiling d:\biocbld\work-area\1.8d\madman\Rpacks\maSigPro\chm\maSigPro.chm Compile time: 0 minutes, 0 seconds 23 Topics 127 Local links 0 Internet links 1 Graphic Created d:\biocbld\work-area\1.8d\madman\Rpacks\maSigPro\chm\maSigPro.chm, 56,425 bytes Compression decreased file by 67,708 bytes. adding MD5 sums * DONE (maSigPro) * creating vignettes ... OK * removing junk files * excluding invalid files from 'maSigPro' Subdirectory 'man' contains invalid file names: README * checking for LF line-endings in source files * checking for empty or unneeded directories * building 'maSigPro_1.4.0.tar.gz'