Back to Multiple platform build/check report
Package: metaArray |
Version: 1.4.0 |
Command: D:\biocbld\R-2.3.0\bin\R.exe CMD INSTALL --build metaArray_1.4.0.tar.gz |
RetCode: 0 |
Time: 14.0 seconds |
Status: OK |
PackageFile: metaArray_1.4.0.zip |
Using auto-selected zip options 'metaArray-ZIPDATA=zip' ---------- Making package metaArray ------------ adding build stamp to DESCRIPTION making DLL ... making contr.d from contr.c making dproc.d from dproc.c making dproc2.d from dproc2.c making intcor.d from intcor.c making lowess.d from lowess.c making mmath.d from mmath.c making perm.d from perm.c making poe.d from poe.c gcc -ID:/biocbld/R-2.3.0/include -Wall -O2 -DUSEDOUBLE -DWINDOWS -c contr.c -o contr.o gcc -ID:/biocbld/R-2.3.0/include -Wall -O2 -DUSEDOUBLE -DWINDOWS -c dproc.c -o dproc.o gcc -ID:/biocbld/R-2.3.0/include -Wall -O2 -DUSEDOUBLE -DWINDOWS -c dproc2.c -o dproc2.o gcc -ID:/biocbld/R-2.3.0/include -Wall -O2 -DUSEDOUBLE -DWINDOWS -c intcor.c -o intcor.o gcc -ID:/biocbld/R-2.3.0/include -Wall -O2 -DUSEDOUBLE -DWINDOWS -c lowess.c -o lowess.o gcc -ID:/biocbld/R-2.3.0/include -Wall -O2 -DUSEDOUBLE -DWINDOWS -c mmath.c -o mmath.o gcc -ID:/biocbld/R-2.3.0/include -Wall -O2 -DUSEDOUBLE -DWINDOWS -c perm.c -o perm.o gcc -ID:/biocbld/R-2.3.0/include -Wall -O2 -DUSEDOUBLE -DWINDOWS -c poe.c -o poe.o poe.c: In function `poe_one_iter': poe.c:132: warning: 'tmp1' might be used uninitialized in this function windres --include-dir D:/biocbld/R-2.3.0/include -i metaArray_res.rc -o metaArray_res.o gcc -shared -s -o metaArray.dll metaArray.def contr.o dproc.o dproc2.o intcor.o lowess.o mmath.o perm.o poe.o metaArray_res.o -LD:/biocbld/R-2.3.0/bin -lm -lR ... DLL made installing DLL installing R files installing inst files installing data files installing man source files installing indices zipping data installing help >>> Building/Updating help pages for package 'metaArray' Formats: text html latex example chm Zscore text html latex example chm em.draw text html latex example chm find.init text html latex example chm fit.em text html latex example chm intcor text html latex example chm logit text html latex chm mdata text html latex chm poe.em text html latex example chm poe.mcmc text html latex example chm Microsoft HTML Help Compiler 4.74.8702 Compiling d:\biocbld\work-area\1.8d\madman\Rpacks\R.INSTALL\metaArray\chm\metaArray.chm Compile time: 0 minutes, 0 seconds 10 Topics 13 Local links 0 Internet links 1 Graphic Created d:\biocbld\work-area\1.8d\madman\Rpacks\R.INSTALL\metaArray\chm\metaArray.chm, 26,259 bytes Compression decreased file by 1,767 bytes. adding MD5 sums packaged installation of package 'metaArray' as metaArray_1.4.0.zip * DONE (metaArray)